BEGIN:VCALENDAR
VERSION:2.0
PRODID:-//Bayside Brewing Company - ECPv6.15.20//NONSGML v1.0//EN
CALSCALE:GREGORIAN
METHOD:PUBLISH
X-WR-CALNAME:Bayside Brewing Company
X-ORIGINAL-URL:https://baysidebrewing.com
X-WR-CALDESC:Events for Bayside Brewing Company
REFRESH-INTERVAL;VALUE=DURATION:PT1H
X-Robots-Tag:noindex
X-PUBLISHED-TTL:PT1H
BEGIN:VTIMEZONE
TZID:America/New_York
BEGIN:DAYLIGHT
TZOFFSETFROM:-0500
TZOFFSETTO:-0400
TZNAME:EDT
DTSTART:20230312T070000
END:DAYLIGHT
BEGIN:STANDARD
TZOFFSETFROM:-0400
TZOFFSETTO:-0500
TZNAME:EST
DTSTART:20231105T060000
END:STANDARD
BEGIN:DAYLIGHT
TZOFFSETFROM:-0500
TZOFFSETTO:-0400
TZNAME:EDT
DTSTART:20240310T070000
END:DAYLIGHT
BEGIN:STANDARD
TZOFFSETFROM:-0400
TZOFFSETTO:-0500
TZNAME:EST
DTSTART:20241103T060000
END:STANDARD
BEGIN:DAYLIGHT
TZOFFSETFROM:-0500
TZOFFSETTO:-0400
TZNAME:EDT
DTSTART:20250309T070000
END:DAYLIGHT
BEGIN:STANDARD
TZOFFSETFROM:-0400
TZOFFSETTO:-0500
TZNAME:EST
DTSTART:20251102T060000
END:STANDARD
END:VTIMEZONE
BEGIN:VEVENT
DTSTART;TZID=America/New_York:20240810T140000
DTEND;TZID=America/New_York:20240810T220000
DTSTAMP:20260423T180942
CREATED:20240601T215821Z
LAST-MODIFIED:20240601T223024Z
UID:58146-1723298400-1723327200@baysidebrewing.com
SUMMARY:EauFest - BrewFest CK - Ghost Note
DESCRIPTION:EauFest (BrewFestCK)\, presented by TekSavvy\, returns for 2024! Your $10 entry fee includes a drink ticket\, and proceeds benefit a charity (tba). \nFeaturing your local craft breweries: \nSons of Kent\, Red Barn\, Glasstown\, and Bayside! \nAll Ages! Live Music! Bring your lawn chair! Dog Friendly!
URL:https://baysidebrewing.com/event/eaufest-brewfest-ck-ghost-note/
LOCATION:Bayside Brewpub\, 970 Ross Lane\, Erieau\, Ontario\, N0P1A0\, Canada
CATEGORIES:Beer Show,Live Music
END:VEVENT
END:VCALENDAR