BEGIN:VCALENDAR
VERSION:2.0
PRODID:-//Bayside Brewing Company - ECPv6.15.20//NONSGML v1.0//EN
CALSCALE:GREGORIAN
METHOD:PUBLISH
X-WR-CALNAME:Bayside Brewing Company
X-ORIGINAL-URL:https://baysidebrewing.com
X-WR-CALDESC:Events for Bayside Brewing Company
REFRESH-INTERVAL;VALUE=DURATION:PT1H
X-Robots-Tag:noindex
X-PUBLISHED-TTL:PT1H
BEGIN:VTIMEZONE
TZID:America/New_York
BEGIN:DAYLIGHT
TZOFFSETFROM:-0500
TZOFFSETTO:-0400
TZNAME:EDT
DTSTART:20230312T070000
END:DAYLIGHT
BEGIN:STANDARD
TZOFFSETFROM:-0400
TZOFFSETTO:-0500
TZNAME:EST
DTSTART:20231105T060000
END:STANDARD
BEGIN:DAYLIGHT
TZOFFSETFROM:-0500
TZOFFSETTO:-0400
TZNAME:EDT
DTSTART:20240310T070000
END:DAYLIGHT
BEGIN:STANDARD
TZOFFSETFROM:-0400
TZOFFSETTO:-0500
TZNAME:EST
DTSTART:20241103T060000
END:STANDARD
BEGIN:DAYLIGHT
TZOFFSETFROM:-0500
TZOFFSETTO:-0400
TZNAME:EDT
DTSTART:20250309T070000
END:DAYLIGHT
BEGIN:STANDARD
TZOFFSETFROM:-0400
TZOFFSETTO:-0500
TZNAME:EST
DTSTART:20251102T060000
END:STANDARD
END:VTIMEZONE
BEGIN:VEVENT
DTSTART;TZID=America/New_York:20240830T110000
DTEND;TZID=America/New_York:20240830T140000
DTSTAMP:20260423T164159
CREATED:20240601T221400Z
LAST-MODIFIED:20240601T221948Z
UID:58166-1725015600-1725026400@baysidebrewing.com
SUMMARY:Pints & Poses
DESCRIPTION:Unroll your mat\, then raise your glass Pints & Poses starts this summer at Bayside Brewing! Yoga\, lunch\, and craft beer for $40. Call or email info@baysidebrewing.com to register for a session. \nExperience Yoga Like Never Before \nJoin us for a rejuvenating yoga class led by Tracey\, a highly experienced and certified yoga instructor from Ageless Arts Yoga. Whether you’re a beginner or an advanced practitioner\, our 75-minute accessible yoga class is designed to help you find balance and peace in body\, mind and spirit. \nConnect with nature \nImmerse yourself in the beauty of Rondeau Bay as you practice yoga outdoors. Feel the gentle breeze\, hear the soothing sounds of nature\, and let the serene surroundings enhance your practice. Our location provides a unique setting that will leave you feeling refreshed and inspired. \nCost: $40 \nIncludes 75 minute professionally guided yoga & meditation class. \nLunch – Choose between 3 healthy lunch options \nDates: June 14\, June 28\, July 5\, July 19\, August 16\, August 30 \nTiming:  11:00am – 12:15pm Yoga \n12:30pm – Lunch \nLocation: Bayside Brewing Co. \nPlease note that we request you unplug from technology and plug into yourself and the nature around you. \nUpon registration\, we will forward you a waiver to sign & a list of what to bring.  \nPRIVATE BOOKINGS AVAILABLE UPON REQUEST.
URL:https://baysidebrewing.com/event/pints-poses-6/
LOCATION:Bayside Brewpub\, 970 Ross Lane\, Erieau\, Ontario\, N0P1A0\, Canada
CATEGORIES:Yoga
END:VEVENT
BEGIN:VEVENT
DTSTART;TZID=America/New_York:20240816T110000
DTEND;TZID=America/New_York:20240816T140000
DTSTAMP:20260423T164159
CREATED:20240601T221307Z
LAST-MODIFIED:20240601T222516Z
UID:58164-1723806000-1723816800@baysidebrewing.com
SUMMARY:Pints & Poses
DESCRIPTION:Unroll your mat\, then raise your glass Pints & Poses starts this summer at Bayside Brewing! Yoga\, lunch\, and craft beer for $40. Call or email info@baysidebrewing.com to register for a session. \nExperience Yoga Like Never Before \nJoin us for a rejuvenating yoga class led by Tracey\, a highly experienced and certified yoga instructor from Ageless Arts Yoga. Whether you’re a beginner or an advanced practitioner\, our 75-minute accessible yoga class is designed to help you find balance and peace in body\, mind and spirit. \nConnect with nature \nImmerse yourself in the beauty of Rondeau Bay as you practice yoga outdoors. Feel the gentle breeze\, hear the soothing sounds of nature\, and let the serene surroundings enhance your practice. Our location provides a unique setting that will leave you feeling refreshed and inspired. \nCost: $40 \nIncludes 75 minute professionally guided yoga & meditation class. \nLunch – Choose between 3 healthy lunch options \nDates: June 14\, June 28\, July 5\, July 19\, August 16\, August 30 \nTiming:  11:00am – 12:15pm Yoga \n12:30pm – Lunch \nLocation: Bayside Brewing Co. \nPlease note that we request you unplug from technology and plug into yourself and the nature around you. \nUpon registration\, we will forward you a waiver to sign & a list of what to bring.  \nPRIVATE BOOKINGS AVAILABLE UPON REQUEST.
URL:https://baysidebrewing.com/event/pints-poses-5/
LOCATION:Bayside Brewpub\, 970 Ross Lane\, Erieau\, Ontario\, N0P1A0\, Canada
CATEGORIES:Yoga
END:VEVENT
BEGIN:VEVENT
DTSTART;TZID=America/New_York:20240719T110000
DTEND;TZID=America/New_York:20240719T140000
DTSTAMP:20260423T164159
CREATED:20240601T221208Z
LAST-MODIFIED:20240601T223332Z
UID:58162-1721386800-1721397600@baysidebrewing.com
SUMMARY:Pints & Poses
DESCRIPTION:Unroll your mat\, then raise your glass Pints & Poses starts this summer at Bayside Brewing! Yoga\, lunch\, and craft beer for $40. Call or email info@baysidebrewing.com to register for a session. \nExperience Yoga Like Never Before \nJoin us for a rejuvenating yoga class led by Tracey\, a highly experienced and certified yoga instructor from Ageless Arts Yoga. Whether you’re a beginner or an advanced practitioner\, our 75-minute accessible yoga class is designed to help you find balance and peace in body\, mind and spirit. \nConnect with nature \nImmerse yourself in the beauty of Rondeau Bay as you practice yoga outdoors. Feel the gentle breeze\, hear the soothing sounds of nature\, and let the serene surroundings enhance your practice. Our location provides a unique setting that will leave you feeling refreshed and inspired. \nCost: $40 \nIncludes 75 minute professionally guided yoga & meditation class. \nLunch – Choose between 3 healthy lunch options \nDates: June 14\, June 28\, July 5\, July 19\, August 16\, August 30 \nTiming:  11:00am – 12:15pm Yoga \n12:30pm – Lunch \nLocation: Bayside Brewing Co. \nPlease note that we request you unplug from technology and plug into yourself and the nature around you. \nUpon registration\, we will forward you a waiver to sign & a list of what to bring.  \nPRIVATE BOOKINGS AVAILABLE UPON REQUEST.
URL:https://baysidebrewing.com/event/pints-poses-4/
LOCATION:Bayside Brewpub\, 970 Ross Lane\, Erieau\, Ontario\, N0P1A0\, Canada
CATEGORIES:Yoga
END:VEVENT
BEGIN:VEVENT
DTSTART;TZID=America/New_York:20240705T110000
DTEND;TZID=America/New_York:20240705T140000
DTSTAMP:20260423T164159
CREATED:20240601T221114Z
LAST-MODIFIED:20240601T223518Z
UID:58160-1720177200-1720188000@baysidebrewing.com
SUMMARY:Pints & Poses
DESCRIPTION:Unroll your mat\, then raise your glass Pints & Poses starts this summer at Bayside Brewing! Yoga\, lunch\, and craft beer for $40. Call or email info@baysidebrewing.com to register for a session. \nExperience Yoga Like Never Before \nJoin us for a rejuvenating yoga class led by Tracey\, a highly experienced and certified yoga instructor from Ageless Arts Yoga. Whether you’re a beginner or an advanced practitioner\, our 75-minute accessible yoga class is designed to help you find balance and peace in body\, mind and spirit. \nConnect with nature \nImmerse yourself in the beauty of Rondeau Bay as you practice yoga outdoors. Feel the gentle breeze\, hear the soothing sounds of nature\, and let the serene surroundings enhance your practice. Our location provides a unique setting that will leave you feeling refreshed and inspired. \nCost: $40 \nIncludes 75 minute professionally guided yoga & meditation class. \nLunch – Choose between 3 healthy lunch options \nDates: June 14\, June 28\, July 5\, July 19\, August 16\, August 30 \nTiming:  11:00am – 12:15pm Yoga \n12:30pm – Lunch \nLocation: Bayside Brewing Co. \nPlease note that we request you unplug from technology and plug into yourself and the nature around you. \nUpon registration\, we will forward you a waiver to sign & a list of what to bring.  \nPRIVATE BOOKINGS AVAILABLE UPON REQUEST.
URL:https://baysidebrewing.com/event/pints-poses-3/
LOCATION:Bayside Brewpub\, 970 Ross Lane\, Erieau\, Ontario\, N0P1A0\, Canada
CATEGORIES:Yoga
END:VEVENT
BEGIN:VEVENT
DTSTART;TZID=America/New_York:20240628T110000
DTEND;TZID=America/New_York:20240628T140000
DTSTAMP:20260423T164159
CREATED:20240601T221013Z
LAST-MODIFIED:20240601T223717Z
UID:58158-1719572400-1719583200@baysidebrewing.com
SUMMARY:Pints & Poses
DESCRIPTION:Unroll your mat\, then raise your glass Pints & Poses starts this summer at Bayside Brewing! Yoga\, lunch\, and craft beer for $40. Call or email info@baysidebrewing.com to register for a session. \nExperience Yoga Like Never Before \nJoin us for a rejuvenating yoga class led by Tracey\, a highly experienced and certified yoga instructor from Ageless Arts Yoga. Whether you’re a beginner or an advanced practitioner\, our 75-minute accessible yoga class is designed to help you find balance and peace in body\, mind and spirit. \nConnect with nature \nImmerse yourself in the beauty of Rondeau Bay as you practice yoga outdoors. Feel the gentle breeze\, hear the soothing sounds of nature\, and let the serene surroundings enhance your practice. Our location provides a unique setting that will leave you feeling refreshed and inspired. \nCost: $40 \nIncludes 75 minute professionally guided yoga & meditation class. \nLunch – Choose between 3 healthy lunch options \nDates: June 14\, June 28\, July 5\, July 19\, August 16\, August 30 \nTiming:  11:00am – 12:15pm Yoga \n12:30pm – Lunch \nLocation: Bayside Brewing Co. \nPlease note that we request you unplug from technology and plug into yourself and the nature around you. \nUpon registration\, we will forward you a waiver to sign & a list of what to bring.  \nPRIVATE BOOKINGS AVAILABLE UPON REQUEST.
URL:https://baysidebrewing.com/event/pints-poses-2/
LOCATION:Bayside Brewpub\, 970 Ross Lane\, Erieau\, Ontario\, N0P1A0\, Canada
CATEGORIES:Yoga
END:VEVENT
BEGIN:VEVENT
DTSTART;TZID=America/New_York:20240614T110000
DTEND;TZID=America/New_York:20240614T140000
DTSTAMP:20260423T164159
CREATED:20240601T220816Z
LAST-MODIFIED:20240601T223752Z
UID:58156-1718362800-1718373600@baysidebrewing.com
SUMMARY:Pints & Poses
DESCRIPTION:Unroll your mat\, then raise your glass Pints & Poses starts this summer at Bayside Brewing! Yoga\, lunch\, and craft beer for $40. Call or email info@baysidebrewing.com to register for a session. \nExperience Yoga Like Never Before \nJoin us for a rejuvenating yoga class led by Tracey\, a highly experienced and certified yoga instructor from Ageless Arts Yoga. Whether you’re a beginner or an advanced practitioner\, our 75-minute accessible yoga class is designed to help you find balance and peace in body\, mind and spirit. \nConnect with nature \nImmerse yourself in the beauty of Rondeau Bay as you practice yoga outdoors. Feel the gentle breeze\, hear the soothing sounds of nature\, and let the serene surroundings enhance your practice. Our location provides a unique setting that will leave you feeling refreshed and inspired. \nCost: $40 \nIncludes 75 minute professionally guided yoga & meditation class. \nLunch – Choose between 3 healthy lunch options \nDates: June 14\, June 28\, July 5\, July 19\, August 16\, August 30 \nTiming:  11:00am – 12:15pm Yoga \n12:30pm – Lunch \nLocation: Bayside Brewing Co. \nPlease note that we request you unplug from technology and plug into yourself and the nature around you. \nUpon registration\, we will forward you a waiver to sign & a list of what to bring.  \nPRIVATE BOOKINGS AVAILABLE UPON REQUEST.
URL:https://baysidebrewing.com/event/pints-poses/
LOCATION:Bayside Brewpub\, 970 Ross Lane\, Erieau\, Ontario\, N0P1A0\, Canada
CATEGORIES:Yoga
END:VEVENT
END:VCALENDAR