BEGIN:VCALENDAR
VERSION:2.0
PRODID:-//Bayside Brewing Company - ECPv6.15.20//NONSGML v1.0//EN
CALSCALE:GREGORIAN
METHOD:PUBLISH
X-WR-CALNAME:Bayside Brewing Company
X-ORIGINAL-URL:https://baysidebrewing.com
X-WR-CALDESC:Events for Bayside Brewing Company
REFRESH-INTERVAL;VALUE=DURATION:PT1H
X-Robots-Tag:noindex
X-PUBLISHED-TTL:PT1H
BEGIN:VTIMEZONE
TZID:America/New_York
BEGIN:DAYLIGHT
TZOFFSETFROM:-0500
TZOFFSETTO:-0400
TZNAME:EDT
DTSTART:20230312T070000
END:DAYLIGHT
BEGIN:STANDARD
TZOFFSETFROM:-0400
TZOFFSETTO:-0500
TZNAME:EST
DTSTART:20231105T060000
END:STANDARD
BEGIN:DAYLIGHT
TZOFFSETFROM:-0500
TZOFFSETTO:-0400
TZNAME:EDT
DTSTART:20240310T070000
END:DAYLIGHT
BEGIN:STANDARD
TZOFFSETFROM:-0400
TZOFFSETTO:-0500
TZNAME:EST
DTSTART:20241103T060000
END:STANDARD
BEGIN:DAYLIGHT
TZOFFSETFROM:-0500
TZOFFSETTO:-0400
TZNAME:EDT
DTSTART:20250309T070000
END:DAYLIGHT
BEGIN:STANDARD
TZOFFSETFROM:-0400
TZOFFSETTO:-0500
TZNAME:EST
DTSTART:20251102T060000
END:STANDARD
BEGIN:DAYLIGHT
TZOFFSETFROM:-0500
TZOFFSETTO:-0400
TZNAME:EDT
DTSTART:20260308T070000
END:DAYLIGHT
BEGIN:STANDARD
TZOFFSETFROM:-0400
TZOFFSETTO:-0500
TZNAME:EST
DTSTART:20261101T060000
END:STANDARD
END:VTIMEZONE
BEGIN:VEVENT
DTSTART;TZID=America/New_York:20250718T200000
DTEND;TZID=America/New_York:20250718T230000
DTSTAMP:20260423T104803
CREATED:20250423T195501Z
LAST-MODIFIED:20250423T195907Z
UID:58634-1752868800-1752879600@baysidebrewing.com
SUMMARY:Friday Night Music - Dave & Chuck
DESCRIPTION:
URL:https://baysidebrewing.com/event/friday-night-music-dave-chuck/
LOCATION:Bayside Brewpub\, 970 Ross Lane\, Erieau\, Ontario\, N0P1A0\, Canada
CATEGORIES:Live Music
END:VEVENT
BEGIN:VEVENT
DTSTART;TZID=America/New_York:20250713T150000
DTEND;TZID=America/New_York:20250713T190000
DTSTAMP:20260423T104803
CREATED:20250423T195123Z
LAST-MODIFIED:20250423T195917Z
UID:58627-1752418800-1752433200@baysidebrewing.com
SUMMARY:The D.A.M. Band
DESCRIPTION:
URL:https://baysidebrewing.com/event/the-d-a-m-band/
LOCATION:Bayside Brewpub\, 970 Ross Lane\, Erieau\, Ontario\, N0P1A0\, Canada
CATEGORIES:Live Music
END:VEVENT
BEGIN:VEVENT
DTSTART;TZID=America/New_York:20250711T200000
DTEND;TZID=America/New_York:20250711T230000
DTSTAMP:20260423T104803
CREATED:20250423T195350Z
LAST-MODIFIED:20250423T195924Z
UID:58632-1752264000-1752274800@baysidebrewing.com
SUMMARY:Friday Night Music - Josh Hinch
DESCRIPTION:
URL:https://baysidebrewing.com/event/friday-night-music-josh-hinch/
LOCATION:Bayside Brewpub\, 970 Ross Lane\, Erieau\, Ontario\, N0P1A0\, Canada
CATEGORIES:Live Music
END:VEVENT
BEGIN:VEVENT
DTSTART;TZID=America/New_York:20250711T110000
DTEND;TZID=America/New_York:20250711T130000
DTSTAMP:20260423T104803
CREATED:20250605T191402Z
LAST-MODIFIED:20250605T192451Z
UID:58672-1752231600-1752238800@baysidebrewing.com
SUMMARY:Pints & Poses: Yoga + Craft Beer by Rondeau Bay
DESCRIPTION:Join us for the perfect blend of movement and mindfulness… with a pint! Pints & Poses invites you to enjoy a 75-minute all-levels yoga class by beautiful Rondeau Bay\, followed by a refreshing craft beer on the patio at Bayside Brewing Co. Whether you’re a seasoned yogi or brand new to the mat\, this event welcomes everybody and every body. \nHosted by Ageless Arts Yoga
URL:https://baysidebrewing.com/event/pints-poses-yoga-craft-beer-by-rondeau-bay/
LOCATION:Bayside Brewpub\, 970 Ross Lane\, Erieau\, Ontario\, N0P1A0\, Canada
END:VEVENT
BEGIN:VEVENT
DTSTART;TZID=America/New_York:20250706T150000
DTEND;TZID=America/New_York:20250706T190000
DTSTAMP:20260423T104803
CREATED:20250423T194724Z
LAST-MODIFIED:20250423T195932Z
UID:58624-1751814000-1751828400@baysidebrewing.com
SUMMARY:Music by the Bay - Cellar Door
DESCRIPTION:
URL:https://baysidebrewing.com/event/music-by-the-bay-cellar-door-2/
LOCATION:Bayside Brewpub\, 970 Ross Lane\, Erieau\, Ontario\, N0P1A0\, Canada
CATEGORIES:Live Music
END:VEVENT
BEGIN:VEVENT
DTSTART;TZID=America/New_York:20250704T200000
DTEND;TZID=America/New_York:20250704T230000
DTSTAMP:20260423T104803
CREATED:20250423T195300Z
LAST-MODIFIED:20250423T195939Z
UID:58630-1751659200-1751670000@baysidebrewing.com
SUMMARY:Friday Night Music- Soul Eau
DESCRIPTION:
URL:https://baysidebrewing.com/event/friday-night-music-soul-eau/
LOCATION:Bayside Brewpub\, 970 Ross Lane\, Erieau\, Ontario\, N0P1A0\, Canada
CATEGORIES:Live Music
END:VEVENT
BEGIN:VEVENT
DTSTART;TZID=America/New_York:20250630T080000
DTEND;TZID=America/New_York:20250630T170000
DTSTAMP:20260423T104803
CREATED:20250605T193542Z
LAST-MODIFIED:20250605T193542Z
UID:58688-1751270400-1751302800@baysidebrewing.com
SUMMARY:Pints & Poses: Yoga & Craft Beer by Rondeau Bay
DESCRIPTION:Join us for the perfect blend of movement and mindfulness… with a pint! Pints & Poses invites you to enjoy a 75-minute all-levels yoga class by beautiful Rondeau Bay\, followed by a refreshing craft beer on the patio at Bayside Brewing Co. Whether you’re a seasoned yogi or brand new to the mat\, this event welcomes everybody and every body. \nHosted by Ageless Arts Yoga
URL:https://baysidebrewing.com/event/pints-poses-yoga-craft-beer-by-rondeau-bay-9/
LOCATION:Bayside Brewpub\, 970 Ross Lane\, Erieau\, Ontario\, N0P1A0\, Canada
END:VEVENT
BEGIN:VEVENT
DTSTART;TZID=America/New_York:20250629T150000
DTEND;TZID=America/New_York:20250629T190000
DTSTAMP:20260423T104803
CREATED:20250423T194341Z
LAST-MODIFIED:20250423T195947Z
UID:58617-1751209200-1751223600@baysidebrewing.com
SUMMARY:Music by the Bay - Blutonium
DESCRIPTION:
URL:https://baysidebrewing.com/event/music-by-the-bay-blutonium-2/
LOCATION:Bayside Brewpub\, 970 Ross Lane\, Erieau\, Ontario\, N0P1A0\, Canada
CATEGORIES:Live Music
END:VEVENT
BEGIN:VEVENT
DTSTART;TZID=America/New_York:20250629T110000
DTEND;TZID=America/New_York:20250629T130000
DTSTAMP:20260423T104803
CREATED:20250605T192317Z
LAST-MODIFIED:20250605T192317Z
UID:58676-1751194800-1751202000@baysidebrewing.com
SUMMARY:Pints & Poses: Yoga + Craft Beer by Rondeau Bay
DESCRIPTION:Join us for the perfect blend of movement and mindfulness… with a pint! Pints & Poses invites you to enjoy a 75-minute all-levels yoga class by beautiful Rondeau Bay\, followed by a refreshing craft beer on the patio at Bayside Brewing Co. Whether you’re a seasoned yogi or brand new to the mat\, this event welcomes everybody and every body. \nHosted by Ageless Arts Yoga
URL:https://baysidebrewing.com/event/pints-poses-yoga-craft-beer-by-rondeau-bay-3/
LOCATION:Bayside Brewpub\, 970 Ross Lane\, Erieau\, Ontario\, N0P1A0\, Canada
END:VEVENT
BEGIN:VEVENT
DTSTART;TZID=America/New_York:20250621T110000
DTEND;TZID=America/New_York:20250621T130000
DTSTAMP:20260423T104803
CREATED:20250605T191827Z
LAST-MODIFIED:20250605T191827Z
UID:58674-1750503600-1750510800@baysidebrewing.com
SUMMARY:Pints & Poses: Yoga + Craft Beer by Rondeau Bay
DESCRIPTION:Join us for the perfect blend of movement and mindfulness… with a pint! Pints & Poses invites you to enjoy a 75-minute all-levels yoga class by beautiful Rondeau Bay\, followed by a refreshing craft beer on the patio at Bayside Brewing Co. Whether you’re a seasoned yogi or brand new to the mat\, this event welcomes everybody and every body. \nHosted by Ageless Arts Yoga
URL:https://baysidebrewing.com/event/pints-poses-yoga-craft-beer-by-rondeau-bay-2/
LOCATION:Bayside Brewpub\, 970 Ross Lane\, Erieau\, Ontario\, N0P1A0\, Canada
END:VEVENT
BEGIN:VEVENT
DTSTART;TZID=America/New_York:20250613T110000
DTEND;TZID=America/New_York:20250613T130000
DTSTAMP:20260423T104803
CREATED:20250605T192628Z
LAST-MODIFIED:20250605T192628Z
UID:58679-1749812400-1749819600@baysidebrewing.com
SUMMARY:Pints & Poses: Yoga + Craft Beer by Rondeau Bay
DESCRIPTION:Join us for the perfect blend of movement and mindfulness… with a pint! Pints & Poses invites you to enjoy a 75-minute all-levels yoga class by beautiful Rondeau Bay\, followed by a refreshing craft beer on the patio at Bayside Brewing Co. Whether you’re a seasoned yogi or brand new to the mat\, this event welcomes everybody and every body. \nHosted by Ageless Arts Yoga
URL:https://baysidebrewing.com/event/pints-poses-yoga-craft-beer-by-rondeau-bay-4/
LOCATION:Bayside Brewpub\, 970 Ross Lane\, Erieau\, Ontario\, N0P1A0\, Canada
END:VEVENT
BEGIN:VEVENT
DTSTART;TZID=America/New_York:20250525T140000
DTEND;TZID=America/New_York:20250525T160000
DTSTAMP:20260423T104803
CREATED:20250521T190139Z
LAST-MODIFIED:20250521T190139Z
UID:58666-1748181600-1748188800@baysidebrewing.com
SUMMARY:Sips & Stitches
DESCRIPTION:Calling all crafters! Sips and Stitches is back on Sunday May 25th at 2pm. Grab your needles\, hooks\, and threads\, and join us for an afternoon of creativity\, craft beer\, and community. Whether you’re a knitting pro or just starting out\, there’s a spot for you at the table.
URL:https://baysidebrewing.com/event/sips-stitches/
LOCATION:Bayside Brewpub\, 970 Ross Lane\, Erieau\, Ontario\, N0P1A0\, Canada
END:VEVENT
BEGIN:VEVENT
DTSTART;TZID=America/New_York:20240901T150000
DTEND;TZID=America/New_York:20240901T190000
DTSTAMP:20260423T104803
CREATED:20240601T220403Z
LAST-MODIFIED:20240601T222207Z
UID:58154-1725202800-1725217200@baysidebrewing.com
SUMMARY:Music by the Bay - Southwind Buoys
DESCRIPTION:Join us for Southwind Buoys from 3-7PM!
URL:https://baysidebrewing.com/event/music-by-the-bay-southwind-buoys/
LOCATION:Bayside Brewpub\, 970 Ross Lane\, Erieau\, Ontario\, N0P1A0\, Canada
CATEGORIES:Live Music
END:VEVENT
BEGIN:VEVENT
DTSTART;TZID=America/New_York:20240830T110000
DTEND;TZID=America/New_York:20240830T140000
DTSTAMP:20260423T104803
CREATED:20240601T221400Z
LAST-MODIFIED:20240601T221948Z
UID:58166-1725015600-1725026400@baysidebrewing.com
SUMMARY:Pints & Poses
DESCRIPTION:Unroll your mat\, then raise your glass Pints & Poses starts this summer at Bayside Brewing! Yoga\, lunch\, and craft beer for $40. Call or email info@baysidebrewing.com to register for a session. \nExperience Yoga Like Never Before \nJoin us for a rejuvenating yoga class led by Tracey\, a highly experienced and certified yoga instructor from Ageless Arts Yoga. Whether you’re a beginner or an advanced practitioner\, our 75-minute accessible yoga class is designed to help you find balance and peace in body\, mind and spirit. \nConnect with nature \nImmerse yourself in the beauty of Rondeau Bay as you practice yoga outdoors. Feel the gentle breeze\, hear the soothing sounds of nature\, and let the serene surroundings enhance your practice. Our location provides a unique setting that will leave you feeling refreshed and inspired. \nCost: $40 \nIncludes 75 minute professionally guided yoga & meditation class. \nLunch – Choose between 3 healthy lunch options \nDates: June 14\, June 28\, July 5\, July 19\, August 16\, August 30 \nTiming:  11:00am – 12:15pm Yoga \n12:30pm – Lunch \nLocation: Bayside Brewing Co. \nPlease note that we request you unplug from technology and plug into yourself and the nature around you. \nUpon registration\, we will forward you a waiver to sign & a list of what to bring.  \nPRIVATE BOOKINGS AVAILABLE UPON REQUEST.
URL:https://baysidebrewing.com/event/pints-poses-6/
LOCATION:Bayside Brewpub\, 970 Ross Lane\, Erieau\, Ontario\, N0P1A0\, Canada
CATEGORIES:Yoga
END:VEVENT
BEGIN:VEVENT
DTSTART;TZID=America/New_York:20240825T150000
DTEND;TZID=America/New_York:20240825T190000
DTSTAMP:20260423T104803
CREATED:20240601T220256Z
LAST-MODIFIED:20240601T222241Z
UID:58152-1724598000-1724612400@baysidebrewing.com
SUMMARY:Music by the Bay - Cellar Door
DESCRIPTION:Cellar Door takes the stage from 3-7PM!
URL:https://baysidebrewing.com/event/music-by-the-bay-cellar-door/
LOCATION:Bayside Brewpub\, 970 Ross Lane\, Erieau\, Ontario\, N0P1A0\, Canada
CATEGORIES:Live Music
END:VEVENT
BEGIN:VEVENT
DTSTART;TZID=America/New_York:20240818T150000
DTEND;TZID=America/New_York:20240818T190000
DTSTAMP:20260423T104803
CREATED:20240601T220137Z
LAST-MODIFIED:20240601T222350Z
UID:58150-1723993200-1724007600@baysidebrewing.com
SUMMARY:Music by the Bay - Milhouse
DESCRIPTION:Join us for Milhouse from 3-7PM!
URL:https://baysidebrewing.com/event/music-by-the-bay-milhouse/
LOCATION:Bayside Brewpub\, 970 Ross Lane\, Erieau\, Ontario\, N0P1A0\, Canada
CATEGORIES:Live Music
END:VEVENT
BEGIN:VEVENT
DTSTART;TZID=America/New_York:20240816T110000
DTEND;TZID=America/New_York:20240816T140000
DTSTAMP:20260423T104803
CREATED:20240601T221307Z
LAST-MODIFIED:20240601T222516Z
UID:58164-1723806000-1723816800@baysidebrewing.com
SUMMARY:Pints & Poses
DESCRIPTION:Unroll your mat\, then raise your glass Pints & Poses starts this summer at Bayside Brewing! Yoga\, lunch\, and craft beer for $40. Call or email info@baysidebrewing.com to register for a session. \nExperience Yoga Like Never Before \nJoin us for a rejuvenating yoga class led by Tracey\, a highly experienced and certified yoga instructor from Ageless Arts Yoga. Whether you’re a beginner or an advanced practitioner\, our 75-minute accessible yoga class is designed to help you find balance and peace in body\, mind and spirit. \nConnect with nature \nImmerse yourself in the beauty of Rondeau Bay as you practice yoga outdoors. Feel the gentle breeze\, hear the soothing sounds of nature\, and let the serene surroundings enhance your practice. Our location provides a unique setting that will leave you feeling refreshed and inspired. \nCost: $40 \nIncludes 75 minute professionally guided yoga & meditation class. \nLunch – Choose between 3 healthy lunch options \nDates: June 14\, June 28\, July 5\, July 19\, August 16\, August 30 \nTiming:  11:00am – 12:15pm Yoga \n12:30pm – Lunch \nLocation: Bayside Brewing Co. \nPlease note that we request you unplug from technology and plug into yourself and the nature around you. \nUpon registration\, we will forward you a waiver to sign & a list of what to bring.  \nPRIVATE BOOKINGS AVAILABLE UPON REQUEST.
URL:https://baysidebrewing.com/event/pints-poses-5/
LOCATION:Bayside Brewpub\, 970 Ross Lane\, Erieau\, Ontario\, N0P1A0\, Canada
CATEGORIES:Yoga
END:VEVENT
BEGIN:VEVENT
DTSTART;TZID=America/New_York:20240811T150000
DTEND;TZID=America/New_York:20240811T190000
DTSTAMP:20260423T104803
CREATED:20240601T220019Z
LAST-MODIFIED:20240601T222944Z
UID:58148-1723388400-1723402800@baysidebrewing.com
SUMMARY:Music by the Bay - Blutonium
DESCRIPTION:Blutonium takes the stage from 3-7 PM!
URL:https://baysidebrewing.com/event/music-by-the-bay-blutonium/
LOCATION:Bayside Brewpub\, 970 Ross Lane\, Erieau\, Ontario\, N0P1A0\, Canada
CATEGORIES:Live Music
END:VEVENT
BEGIN:VEVENT
DTSTART;TZID=America/New_York:20240810T140000
DTEND;TZID=America/New_York:20240810T220000
DTSTAMP:20260423T104803
CREATED:20240601T215821Z
LAST-MODIFIED:20240601T223024Z
UID:58146-1723298400-1723327200@baysidebrewing.com
SUMMARY:EauFest - BrewFest CK - Ghost Note
DESCRIPTION:EauFest (BrewFestCK)\, presented by TekSavvy\, returns for 2024! Your $10 entry fee includes a drink ticket\, and proceeds benefit a charity (tba). \nFeaturing your local craft breweries: \nSons of Kent\, Red Barn\, Glasstown\, and Bayside! \nAll Ages! Live Music! Bring your lawn chair! Dog Friendly!
URL:https://baysidebrewing.com/event/eaufest-brewfest-ck-ghost-note/
LOCATION:Bayside Brewpub\, 970 Ross Lane\, Erieau\, Ontario\, N0P1A0\, Canada
CATEGORIES:Beer Show,Live Music
END:VEVENT
BEGIN:VEVENT
DTSTART;TZID=America/New_York:20240804T150000
DTEND;TZID=America/New_York:20240804T190000
DTSTAMP:20260423T104803
CREATED:20240601T215348Z
LAST-MODIFIED:20240601T223102Z
UID:58144-1722783600-1722798000@baysidebrewing.com
SUMMARY:Music by the Bay - Mojo Wailers
DESCRIPTION:Mojo Wailers will be playing from 3-7 PM!
URL:https://baysidebrewing.com/event/music-by-the-bay-mojo-wailers/
LOCATION:Bayside Brewpub\, 970 Ross Lane\, Erieau\, Ontario\, N0P1A0\, Canada
CATEGORIES:Live Music
END:VEVENT
BEGIN:VEVENT
DTSTART;TZID=America/New_York:20240728T150000
DTEND;TZID=America/New_York:20240728T190000
DTSTAMP:20260423T104803
CREATED:20240601T215153Z
LAST-MODIFIED:20240601T223140Z
UID:58142-1722178800-1722193200@baysidebrewing.com
SUMMARY:Music by the Bay - The D.A.M. Band
DESCRIPTION:Join us for The D.A.M. Band from 3-7 PM!
URL:https://baysidebrewing.com/event/music-by-the-bay-the-d-a-m-band/
LOCATION:Bayside Brewpub\, 970 Ross Lane\, Erieau\, Ontario\, N0P1A0\, Canada
CATEGORIES:Live Music
END:VEVENT
BEGIN:VEVENT
DTSTART;TZID=America/New_York:20240721T150000
DTEND;TZID=America/New_York:20240721T190000
DTSTAMP:20260423T104803
CREATED:20240601T214840Z
LAST-MODIFIED:20240601T223218Z
UID:58140-1721574000-1721588400@baysidebrewing.com
SUMMARY:Music by the Bay - Jen Knight
DESCRIPTION:Jen Knight takes the stage from 3-7 PM!
URL:https://baysidebrewing.com/event/music-by-the-bay-jen-knight/
LOCATION:Bayside Brewpub\, 970 Ross Lane\, Erieau\, Ontario\, N0P1A0\, Canada
CATEGORIES:Live Music
END:VEVENT
BEGIN:VEVENT
DTSTART;TZID=America/New_York:20240719T110000
DTEND;TZID=America/New_York:20240719T140000
DTSTAMP:20260423T104803
CREATED:20240601T221208Z
LAST-MODIFIED:20240601T223332Z
UID:58162-1721386800-1721397600@baysidebrewing.com
SUMMARY:Pints & Poses
DESCRIPTION:Unroll your mat\, then raise your glass Pints & Poses starts this summer at Bayside Brewing! Yoga\, lunch\, and craft beer for $40. Call or email info@baysidebrewing.com to register for a session. \nExperience Yoga Like Never Before \nJoin us for a rejuvenating yoga class led by Tracey\, a highly experienced and certified yoga instructor from Ageless Arts Yoga. Whether you’re a beginner or an advanced practitioner\, our 75-minute accessible yoga class is designed to help you find balance and peace in body\, mind and spirit. \nConnect with nature \nImmerse yourself in the beauty of Rondeau Bay as you practice yoga outdoors. Feel the gentle breeze\, hear the soothing sounds of nature\, and let the serene surroundings enhance your practice. Our location provides a unique setting that will leave you feeling refreshed and inspired. \nCost: $40 \nIncludes 75 minute professionally guided yoga & meditation class. \nLunch – Choose between 3 healthy lunch options \nDates: June 14\, June 28\, July 5\, July 19\, August 16\, August 30 \nTiming:  11:00am – 12:15pm Yoga \n12:30pm – Lunch \nLocation: Bayside Brewing Co. \nPlease note that we request you unplug from technology and plug into yourself and the nature around you. \nUpon registration\, we will forward you a waiver to sign & a list of what to bring.  \nPRIVATE BOOKINGS AVAILABLE UPON REQUEST.
URL:https://baysidebrewing.com/event/pints-poses-4/
LOCATION:Bayside Brewpub\, 970 Ross Lane\, Erieau\, Ontario\, N0P1A0\, Canada
CATEGORIES:Yoga
END:VEVENT
BEGIN:VEVENT
DTSTART;TZID=America/New_York:20240714T150000
DTEND;TZID=America/New_York:20240714T190000
DTSTAMP:20260423T104803
CREATED:20240601T214728Z
LAST-MODIFIED:20240601T223409Z
UID:58138-1720969200-1720983600@baysidebrewing.com
SUMMARY:Music by the Bay - Sandbox
DESCRIPTION:The Sandbox Duo plays from 3-7 PM!
URL:https://baysidebrewing.com/event/music-by-the-bay-sandbox/
LOCATION:Bayside Brewpub\, 970 Ross Lane\, Erieau\, Ontario\, N0P1A0\, Canada
CATEGORIES:Live Music
END:VEVENT
BEGIN:VEVENT
DTSTART;TZID=America/New_York:20240707T150000
DTEND;TZID=America/New_York:20240707T190000
DTSTAMP:20260423T104803
CREATED:20240601T214519Z
LAST-MODIFIED:20240601T223438Z
UID:58136-1720364400-1720378800@baysidebrewing.com
SUMMARY:Music by the Bay - Heartless Saints
DESCRIPTION:Join us for Heartless Saints from 3-7 PM!
URL:https://baysidebrewing.com/event/music-by-the-bay-heartless-saints/
LOCATION:Bayside Brewpub\, 970 Ross Lane\, Erieau\, Ontario\, N0P1A0\, Canada
CATEGORIES:Live Music
END:VEVENT
BEGIN:VEVENT
DTSTART;TZID=America/New_York:20240705T110000
DTEND;TZID=America/New_York:20240705T140000
DTSTAMP:20260423T104803
CREATED:20240601T221114Z
LAST-MODIFIED:20240601T223518Z
UID:58160-1720177200-1720188000@baysidebrewing.com
SUMMARY:Pints & Poses
DESCRIPTION:Unroll your mat\, then raise your glass Pints & Poses starts this summer at Bayside Brewing! Yoga\, lunch\, and craft beer for $40. Call or email info@baysidebrewing.com to register for a session. \nExperience Yoga Like Never Before \nJoin us for a rejuvenating yoga class led by Tracey\, a highly experienced and certified yoga instructor from Ageless Arts Yoga. Whether you’re a beginner or an advanced practitioner\, our 75-minute accessible yoga class is designed to help you find balance and peace in body\, mind and spirit. \nConnect with nature \nImmerse yourself in the beauty of Rondeau Bay as you practice yoga outdoors. Feel the gentle breeze\, hear the soothing sounds of nature\, and let the serene surroundings enhance your practice. Our location provides a unique setting that will leave you feeling refreshed and inspired. \nCost: $40 \nIncludes 75 minute professionally guided yoga & meditation class. \nLunch – Choose between 3 healthy lunch options \nDates: June 14\, June 28\, July 5\, July 19\, August 16\, August 30 \nTiming:  11:00am – 12:15pm Yoga \n12:30pm – Lunch \nLocation: Bayside Brewing Co. \nPlease note that we request you unplug from technology and plug into yourself and the nature around you. \nUpon registration\, we will forward you a waiver to sign & a list of what to bring.  \nPRIVATE BOOKINGS AVAILABLE UPON REQUEST.
URL:https://baysidebrewing.com/event/pints-poses-3/
LOCATION:Bayside Brewpub\, 970 Ross Lane\, Erieau\, Ontario\, N0P1A0\, Canada
CATEGORIES:Yoga
END:VEVENT
BEGIN:VEVENT
DTSTART;TZID=America/New_York:20240701T150000
DTEND;TZID=America/New_York:20240701T150000
DTSTAMP:20260423T104803
CREATED:20240601T214304Z
LAST-MODIFIED:20240601T223601Z
UID:58133-1719846000-1719846000@baysidebrewing.com
SUMMARY:Music by the Bay - Gravity Wagon
DESCRIPTION:Gravity Wagon takes the stage from 3-7 PM to help us celebrate Canada Day!
URL:https://baysidebrewing.com/event/music-by-the-bay-gravity-wagon/
LOCATION:Bayside Brewpub\, 970 Ross Lane\, Erieau\, Ontario\, N0P1A0\, Canada
CATEGORIES:Live Music
END:VEVENT
BEGIN:VEVENT
DTSTART;TZID=America/New_York:20240630T150000
DTEND;TZID=America/New_York:20240630T190000
DTSTAMP:20260423T104803
CREATED:20240601T214133Z
LAST-MODIFIED:20240601T223638Z
UID:58131-1719759600-1719774000@baysidebrewing.com
SUMMARY:Music by the Bay - Parker
DESCRIPTION:The Parker Duo Playing Live from 3-7PM!
URL:https://baysidebrewing.com/event/music-by-the-bay-parker/
LOCATION:Bayside Brewpub\, 970 Ross Lane\, Erieau\, Ontario\, N0P1A0\, Canada
CATEGORIES:Live Music
END:VEVENT
BEGIN:VEVENT
DTSTART;TZID=America/New_York:20240628T110000
DTEND;TZID=America/New_York:20240628T140000
DTSTAMP:20260423T104803
CREATED:20240601T221013Z
LAST-MODIFIED:20240601T223717Z
UID:58158-1719572400-1719583200@baysidebrewing.com
SUMMARY:Pints & Poses
DESCRIPTION:Unroll your mat\, then raise your glass Pints & Poses starts this summer at Bayside Brewing! Yoga\, lunch\, and craft beer for $40. Call or email info@baysidebrewing.com to register for a session. \nExperience Yoga Like Never Before \nJoin us for a rejuvenating yoga class led by Tracey\, a highly experienced and certified yoga instructor from Ageless Arts Yoga. Whether you’re a beginner or an advanced practitioner\, our 75-minute accessible yoga class is designed to help you find balance and peace in body\, mind and spirit. \nConnect with nature \nImmerse yourself in the beauty of Rondeau Bay as you practice yoga outdoors. Feel the gentle breeze\, hear the soothing sounds of nature\, and let the serene surroundings enhance your practice. Our location provides a unique setting that will leave you feeling refreshed and inspired. \nCost: $40 \nIncludes 75 minute professionally guided yoga & meditation class. \nLunch – Choose between 3 healthy lunch options \nDates: June 14\, June 28\, July 5\, July 19\, August 16\, August 30 \nTiming:  11:00am – 12:15pm Yoga \n12:30pm – Lunch \nLocation: Bayside Brewing Co. \nPlease note that we request you unplug from technology and plug into yourself and the nature around you. \nUpon registration\, we will forward you a waiver to sign & a list of what to bring.  \nPRIVATE BOOKINGS AVAILABLE UPON REQUEST.
URL:https://baysidebrewing.com/event/pints-poses-2/
LOCATION:Bayside Brewpub\, 970 Ross Lane\, Erieau\, Ontario\, N0P1A0\, Canada
CATEGORIES:Yoga
END:VEVENT
BEGIN:VEVENT
DTSTART;TZID=America/New_York:20240614T110000
DTEND;TZID=America/New_York:20240614T140000
DTSTAMP:20260423T104803
CREATED:20240601T220816Z
LAST-MODIFIED:20240601T223752Z
UID:58156-1718362800-1718373600@baysidebrewing.com
SUMMARY:Pints & Poses
DESCRIPTION:Unroll your mat\, then raise your glass Pints & Poses starts this summer at Bayside Brewing! Yoga\, lunch\, and craft beer for $40. Call or email info@baysidebrewing.com to register for a session. \nExperience Yoga Like Never Before \nJoin us for a rejuvenating yoga class led by Tracey\, a highly experienced and certified yoga instructor from Ageless Arts Yoga. Whether you’re a beginner or an advanced practitioner\, our 75-minute accessible yoga class is designed to help you find balance and peace in body\, mind and spirit. \nConnect with nature \nImmerse yourself in the beauty of Rondeau Bay as you practice yoga outdoors. Feel the gentle breeze\, hear the soothing sounds of nature\, and let the serene surroundings enhance your practice. Our location provides a unique setting that will leave you feeling refreshed and inspired. \nCost: $40 \nIncludes 75 minute professionally guided yoga & meditation class. \nLunch – Choose between 3 healthy lunch options \nDates: June 14\, June 28\, July 5\, July 19\, August 16\, August 30 \nTiming:  11:00am – 12:15pm Yoga \n12:30pm – Lunch \nLocation: Bayside Brewing Co. \nPlease note that we request you unplug from technology and plug into yourself and the nature around you. \nUpon registration\, we will forward you a waiver to sign & a list of what to bring.  \nPRIVATE BOOKINGS AVAILABLE UPON REQUEST.
URL:https://baysidebrewing.com/event/pints-poses/
LOCATION:Bayside Brewpub\, 970 Ross Lane\, Erieau\, Ontario\, N0P1A0\, Canada
CATEGORIES:Yoga
END:VEVENT
END:VCALENDAR