BEGIN:VCALENDAR
VERSION:2.0
PRODID:-//Bayside Brewing Company - ECPv6.15.20//NONSGML v1.0//EN
CALSCALE:GREGORIAN
METHOD:PUBLISH
X-WR-CALNAME:Bayside Brewing Company
X-ORIGINAL-URL:https://baysidebrewing.com
X-WR-CALDESC:Events for Bayside Brewing Company
REFRESH-INTERVAL;VALUE=DURATION:PT1H
X-Robots-Tag:noindex
X-PUBLISHED-TTL:PT1H
BEGIN:VTIMEZONE
TZID:UTC
BEGIN:STANDARD
TZOFFSETFROM:+0000
TZOFFSETTO:+0000
TZNAME:UTC
DTSTART:20220101T000000
END:STANDARD
END:VTIMEZONE
BEGIN:VTIMEZONE
TZID:America/New_York
BEGIN:DAYLIGHT
TZOFFSETFROM:-0500
TZOFFSETTO:-0400
TZNAME:EDT
DTSTART:20220313T070000
END:DAYLIGHT
BEGIN:STANDARD
TZOFFSETFROM:-0400
TZOFFSETTO:-0500
TZNAME:EST
DTSTART:20221106T060000
END:STANDARD
BEGIN:DAYLIGHT
TZOFFSETFROM:-0500
TZOFFSETTO:-0400
TZNAME:EDT
DTSTART:20230312T070000
END:DAYLIGHT
BEGIN:STANDARD
TZOFFSETFROM:-0400
TZOFFSETTO:-0500
TZNAME:EST
DTSTART:20231105T060000
END:STANDARD
BEGIN:DAYLIGHT
TZOFFSETFROM:-0500
TZOFFSETTO:-0400
TZNAME:EDT
DTSTART:20240310T070000
END:DAYLIGHT
BEGIN:STANDARD
TZOFFSETFROM:-0400
TZOFFSETTO:-0500
TZNAME:EST
DTSTART:20241103T060000
END:STANDARD
END:VTIMEZONE
BEGIN:VEVENT
DTSTART;TZID=UTC:20230908T000000
DTEND;TZID=UTC:20230908T000000
DTSTAMP:20260423T163940
CREATED:20230501T190855Z
LAST-MODIFIED:20230818T164623Z
UID:57803-1694131200-1694131200@baysidebrewing.com
SUMMARY:Golf for the Kids
DESCRIPTION:The Children’s Treatment Center Foundation is hosting the 7th Annual Golf Tournament – Golf for the Kids (formerly known as Festival of Golf).
URL:https://baysidebrewing.com/event/ctc-charity-golf-event/
LOCATION:Willow Ridge Golf Course\, 39 Chatham St S\, Blenheim\, Ontario\, N0P1A0\, Canada
END:VEVENT
BEGIN:VEVENT
DTSTART;TZID=America/New_York:20230903T150000
DTEND;TZID=America/New_York:20230903T190000
DTSTAMP:20260423T163940
CREATED:20230503T203749Z
LAST-MODIFIED:20230503T203827Z
UID:57878-1693753200-1693767600@baysidebrewing.com
SUMMARY:Free Live Music - Moondog Howlers
DESCRIPTION:
URL:https://baysidebrewing.com/event/free-live-music-moondog-howlers/
LOCATION:Bayside Brewpub\, 970 Ross Lane\, Erieau\, Ontario\, N0P1A0\, Canada
CATEGORIES:Live Music
END:VEVENT
BEGIN:VEVENT
DTSTART;TZID=UTC:20230903T090000
DTEND;TZID=UTC:20230903T160000
DTSTAMP:20260423T163940
CREATED:20230501T063001Z
LAST-MODIFIED:20230501T194428Z
UID:57755-1693731600-1693756800@baysidebrewing.com
SUMMARY:Pinery Market
DESCRIPTION:Come visit Bayside at the Pinery Market every Sunday until October 8th and pick up a 6-pack of your favourite brew!
URL:https://baysidebrewing.com/event/pinery-market-19/
LOCATION:Pinery Market\, 10163 Lakeshore Rd\, Grand Bend\, Ontario\, N0M 1T0\, Canada
END:VEVENT
BEGIN:VEVENT
DTSTART;TZID=UTC:20230902T000000
DTEND;TZID=UTC:20230902T000000
DTSTAMP:20260423T163940
CREATED:20230501T190500Z
LAST-MODIFIED:20230501T190840Z
UID:57800-1693612800-1693612800@baysidebrewing.com
SUMMARY:FarmFest - BrewFest CK
DESCRIPTION:
URL:https://baysidebrewing.com/event/farmfest-brewfest-ck/
LOCATION:Red Barn Brewery\, 20466 Lagoon Road\, Blenheim\, Ontario\, N0P1A0\, Canada
END:VEVENT
BEGIN:VEVENT
DTSTART;TZID=America/New_York:20230827T150000
DTEND;TZID=America/New_York:20230827T190000
DTSTAMP:20260423T163940
CREATED:20230503T203655Z
LAST-MODIFIED:20230503T203731Z
UID:57876-1693148400-1693162800@baysidebrewing.com
SUMMARY:Free Live Music - Sandbox
DESCRIPTION:
URL:https://baysidebrewing.com/event/free-live-music-sandbox/
LOCATION:Bayside Brewpub\, 970 Ross Lane\, Erieau\, Ontario\, N0P1A0\, Canada
CATEGORIES:Live Music
END:VEVENT
BEGIN:VEVENT
DTSTART;TZID=UTC:20230827T090000
DTEND;TZID=UTC:20230827T160000
DTSTAMP:20260423T163940
CREATED:20230501T062921Z
LAST-MODIFIED:20230501T194456Z
UID:57753-1693126800-1693152000@baysidebrewing.com
SUMMARY:Pinery Market
DESCRIPTION:Come visit Bayside at the Pinery Market every Sunday until October 8th and pick up a 6-pack of your favourite brew!
URL:https://baysidebrewing.com/event/pinery-market-18/
LOCATION:Pinery Market\, 10163 Lakeshore Rd\, Grand Bend\, Ontario\, N0M 1T0\, Canada
END:VEVENT
BEGIN:VEVENT
DTSTART;TZID=America/New_York:20230820T150000
DTEND;TZID=America/New_York:20230820T190000
DTSTAMP:20260423T163940
CREATED:20230503T203612Z
LAST-MODIFIED:20230818T164031Z
UID:57874-1692543600-1692558000@baysidebrewing.com
SUMMARY:Free Live Music - Rock Accordiongly
DESCRIPTION:
URL:https://baysidebrewing.com/event/free-live-music-rock-accordingly/
LOCATION:Bayside Brewpub\, 970 Ross Lane\, Erieau\, Ontario\, N0P1A0\, Canada
CATEGORIES:Live Music
END:VEVENT
BEGIN:VEVENT
DTSTART;TZID=UTC:20230820T090000
DTEND;TZID=UTC:20230820T160000
DTSTAMP:20260423T163940
CREATED:20230501T062856Z
LAST-MODIFIED:20230501T194520Z
UID:57751-1692522000-1692547200@baysidebrewing.com
SUMMARY:Pinery Market
DESCRIPTION:Come visit Bayside at the Pinery Market every Sunday until October 8th and pick up a 6-pack of your favourite brew!
URL:https://baysidebrewing.com/event/pinery-market-17/
LOCATION:Pinery Market\, 10163 Lakeshore Rd\, Grand Bend\, Ontario\, N0M 1T0\, Canada
END:VEVENT
BEGIN:VEVENT
DTSTART;TZID=America/New_York:20230819T170000
DTEND;TZID=America/New_York:20230819T170000
DTSTAMP:20260423T163940
CREATED:20230818T165340Z
LAST-MODIFIED:20230818T165340Z
UID:58017-1692464400-1692464400@baysidebrewing.com
SUMMARY:Rock the Lot
DESCRIPTION:Dresden’s Party of the Summer! Featuring Live music\, great food\, cold drinks\, lawn games & more!
URL:https://baysidebrewing.com/event/rock-the-lot/
LOCATION:Dres\, Dresden\, ON\, Canada
END:VEVENT
BEGIN:VEVENT
DTSTART;TZID=UTC:20230815T000000
DTEND;TZID=UTC:20230815T000000
DTSTAMP:20260423T163940
CREATED:20230501T190258Z
LAST-MODIFIED:20230501T190452Z
UID:57797-1692057600-1692057600@baysidebrewing.com
SUMMARY:CK Police Golf Charity Event
DESCRIPTION:
URL:https://baysidebrewing.com/event/ck-police-golf-charity-event/
LOCATION:Willow Ridge Golf Course\, 39 Chatham St S\, Blenheim\, Ontario\, N0P1A0\, Canada
END:VEVENT
BEGIN:VEVENT
DTSTART;TZID=America/New_York:20230813T150000
DTEND;TZID=America/New_York:20230813T190000
DTSTAMP:20260423T163940
CREATED:20230503T203428Z
LAST-MODIFIED:20230503T203606Z
UID:57872-1691938800-1691953200@baysidebrewing.com
SUMMARY:Free Live Music - Mojo Wailers
DESCRIPTION:
URL:https://baysidebrewing.com/event/free-live-music-mojo-wailers/
LOCATION:Bayside Brewpub\, 970 Ross Lane\, Erieau\, Ontario\, N0P1A0\, Canada
CATEGORIES:Live Music
END:VEVENT
BEGIN:VEVENT
DTSTART;TZID=UTC:20230813T090000
DTEND;TZID=UTC:20230813T160000
DTSTAMP:20260423T163940
CREATED:20230501T062828Z
LAST-MODIFIED:20230501T210441Z
UID:57749-1691917200-1691942400@baysidebrewing.com
SUMMARY:Pinery Market
DESCRIPTION:Come visit Bayside at the Pinery Market every Sunday until October 8th and pick up a 6-pack of your favourite brew!
URL:https://baysidebrewing.com/event/pinery-market-16/
LOCATION:Pinery Market\, 10163 Lakeshore Rd\, Grand Bend\, Ontario\, N0M 1T0\, Canada
CATEGORIES:Live Music
END:VEVENT
BEGIN:VEVENT
DTSTART;TZID=UTC:20230812T130000
DTEND;TZID=UTC:20230812T220000
DTSTAMP:20260423T163940
CREATED:20230501T190121Z
LAST-MODIFIED:20230811T193310Z
UID:57793-1691845200-1691877600@baysidebrewing.com
SUMMARY:EauFest - BrewFest CK
DESCRIPTION:Live Music from 1 pm – 11 pm! \nTwo From Tuesday 1 – 4pm \nChad & Rick 4 – 7pm \nGhost Note 7 – 11pm \nEauFest is part of the BrewFest Ck series\, where your 4 favourite local breweries come together to celebrate the art of crafting exceptional beers!\nFeaturing: Sons of Kent\, Red Barn Brewing\, Glasstown Brewing and Bayside! \nThank you to our sponsor TekSavvy!
URL:https://baysidebrewing.com/event/eaufest-brewfest-ck/
LOCATION:Bayside Brewpub\, 970 Ross Lane\, Erieau\, Ontario\, N0P1A0\, Canada
CATEGORIES:Live Music
END:VEVENT
BEGIN:VEVENT
DTSTART;TZID=America/New_York:20230806T150000
DTEND;TZID=America/New_York:20230806T190000
DTSTAMP:20260423T163940
CREATED:20230503T203332Z
LAST-MODIFIED:20230503T203423Z
UID:57870-1691334000-1691348400@baysidebrewing.com
SUMMARY:Free Live Music - Heartless Saints
DESCRIPTION:
URL:https://baysidebrewing.com/event/free-live-music-heartless-saints/
LOCATION:Bayside Brewpub\, 970 Ross Lane\, Erieau\, Ontario\, N0P1A0\, Canada
CATEGORIES:Live Music
END:VEVENT
BEGIN:VEVENT
DTSTART;TZID=UTC:20230806T090000
DTEND;TZID=UTC:20230806T160000
DTSTAMP:20260423T163940
CREATED:20230501T062758Z
LAST-MODIFIED:20230501T194626Z
UID:57747-1691312400-1691337600@baysidebrewing.com
SUMMARY:Pinery Market
DESCRIPTION:Come visit Bayside at the Pinery Market every Sunday until October 8th and pick up a 6-pack of your favourite brew!
URL:https://baysidebrewing.com/event/pinery-market-15/
LOCATION:Pinery Market\, 10163 Lakeshore Rd\, Grand Bend\, Ontario\, N0M 1T0\, Canada
END:VEVENT
BEGIN:VEVENT
DTSTART;TZID=UTC:20230805T080000
DTEND;TZID=UTC:20230805T080000
DTSTAMP:20260423T163940
CREATED:20230501T185851Z
LAST-MODIFIED:20230609T202401Z
UID:57790-1691222400-1691222400@baysidebrewing.com
SUMMARY:Art on the Boulevard
DESCRIPTION:
URL:https://baysidebrewing.com/event/art-on-the-boulevard/
LOCATION:Erieau Boulevard\, Erieau\, Ontario\, N0P1N0\, Canada
END:VEVENT
BEGIN:VEVENT
DTSTART;TZID=America/New_York:20230730T150000
DTEND;TZID=America/New_York:20230730T190000
DTSTAMP:20260423T163940
CREATED:20230503T203145Z
LAST-MODIFIED:20230503T203234Z
UID:57868-1690729200-1690743600@baysidebrewing.com
SUMMARY:Free Live Music - Spirit of the Sixties
DESCRIPTION:
URL:https://baysidebrewing.com/event/free-live-music-spirit-of-the-sixties/
LOCATION:Bayside Brewpub\, 970 Ross Lane\, Erieau\, Ontario\, N0P1A0\, Canada
CATEGORIES:Live Music
END:VEVENT
BEGIN:VEVENT
DTSTART;TZID=UTC:20230730T090000
DTEND;TZID=UTC:20230730T160000
DTSTAMP:20260423T163940
CREATED:20230501T062711Z
LAST-MODIFIED:20230501T194653Z
UID:57745-1690707600-1690732800@baysidebrewing.com
SUMMARY:Pinery Market
DESCRIPTION:Come visit Bayside at the Pinery Market every Sunday until October 8th and pick up a 6-pack of your favourite brew!
URL:https://baysidebrewing.com/event/pinery-market-14/
LOCATION:Pinery Market\, 10163 Lakeshore Rd\, Grand Bend\, Ontario\, N0M 1T0\, Canada
END:VEVENT
BEGIN:VEVENT
DTSTART;TZID=America/New_York:20230723T150000
DTEND;TZID=America/New_York:20230723T190000
DTSTAMP:20260423T163940
CREATED:20230503T203103Z
LAST-MODIFIED:20230611T193819Z
UID:57866-1690124400-1690138800@baysidebrewing.com
SUMMARY:Free Live Music - Southwind Buoys
DESCRIPTION:
URL:https://baysidebrewing.com/event/free-live-music-southwind-buoys/
LOCATION:Bayside Brewpub\, 970 Ross Lane\, Erieau\, Ontario\, N0P1A0\, Canada
CATEGORIES:Live Music
END:VEVENT
BEGIN:VEVENT
DTSTART;TZID=UTC:20230723T090000
DTEND;TZID=UTC:20230723T160000
DTSTAMP:20260423T163940
CREATED:20230501T062617Z
LAST-MODIFIED:20230501T195001Z
UID:57741-1690102800-1690128000@baysidebrewing.com
SUMMARY:Pinery Market
DESCRIPTION:Come visit Bayside at the Pinery Market every Sunday until October 8th and pick up a 6-pack of your favourite brew!
URL:https://baysidebrewing.com/event/pinery-market-12/
LOCATION:Pinery Market\, 10163 Lakeshore Rd\, Grand Bend\, Ontario\, N0M 1T0\, Canada
END:VEVENT
BEGIN:VEVENT
DTSTART;TZID=America/New_York:20230716T150000
DTEND;TZID=America/New_York:20230716T190000
DTSTAMP:20260423T163940
CREATED:20230503T202929Z
LAST-MODIFIED:20230503T203317Z
UID:57864-1689519600-1689534000@baysidebrewing.com
SUMMARY:Free Live Music - D.A.M. Band
DESCRIPTION:
URL:https://baysidebrewing.com/event/free-live-music-d-a-m-band/
LOCATION:Bayside Brewpub\, 970 Ross Lane\, Erieau\, Ontario\, N0P1A0\, Canada
CATEGORIES:Live Music
END:VEVENT
BEGIN:VEVENT
DTSTART;TZID=UTC:20230716T090000
DTEND;TZID=UTC:20230716T160000
DTSTAMP:20260423T163940
CREATED:20230501T062552Z
LAST-MODIFIED:20230501T195022Z
UID:57739-1689498000-1689523200@baysidebrewing.com
SUMMARY:Pinery Market
DESCRIPTION:Come visit Bayside at the Pinery Market every Sunday until October 8th and pick up a 6-pack of your favourite brew!
URL:https://baysidebrewing.com/event/pinery-market-11/
LOCATION:Pinery Market\, 10163 Lakeshore Rd\, Grand Bend\, Ontario\, N0M 1T0\, Canada
END:VEVENT
BEGIN:VEVENT
DTSTART;TZID=UTC:20230715T140000
DTEND;TZID=UTC:20230715T140000
DTSTAMP:20260423T163940
CREATED:20230501T185430Z
LAST-MODIFIED:20230609T202017Z
UID:57786-1689429600-1689429600@baysidebrewing.com
SUMMARY:FunkFest - BrewFest CK
DESCRIPTION:Live music by Five Alarm Funk and Superfly!
URL:https://baysidebrewing.com/event/funkfest/
LOCATION:Sons of Kent\, 27 Adelaide St S\, Chatham\, Ontario\, N7M 4P9\, Canada
CATEGORIES:Live Music
END:VEVENT
BEGIN:VEVENT
DTSTART;TZID=America/New_York:20230709T160000
DTEND;TZID=America/New_York:20230709T200000
DTSTAMP:20260423T163940
CREATED:20230503T202848Z
LAST-MODIFIED:20230709T184246Z
UID:57862-1688918400-1688932800@baysidebrewing.com
SUMMARY:Free Live Music - Milhouse
DESCRIPTION:
URL:https://baysidebrewing.com/event/free-live-music-mill-house/
LOCATION:Bayside Brewpub\, 970 Ross Lane\, Erieau\, Ontario\, N0P1A0\, Canada
CATEGORIES:Live Music
END:VEVENT
BEGIN:VEVENT
DTSTART;TZID=UTC:20230709T090000
DTEND;TZID=UTC:20230709T160000
DTSTAMP:20260423T163940
CREATED:20230501T062521Z
LAST-MODIFIED:20230501T195053Z
UID:57737-1688893200-1688918400@baysidebrewing.com
SUMMARY:Pinery Market
DESCRIPTION:Come visit Bayside at the Pinery Market every Sunday until October 8th and pick up a 6-pack of your favourite brew!
URL:https://baysidebrewing.com/event/pinery-market-10/
LOCATION:Pinery Market\, 10163 Lakeshore Rd\, Grand Bend\, Ontario\, N0M 1T0\, Canada
END:VEVENT
BEGIN:VEVENT
DTSTART;TZID=America/New_York:20230702T150000
DTEND;TZID=America/New_York:20230702T190000
DTSTAMP:20260423T163940
CREATED:20230503T202641Z
LAST-MODIFIED:20230503T202805Z
UID:57860-1688310000-1688324400@baysidebrewing.com
SUMMARY:Free Live Music - Parker
DESCRIPTION:
URL:https://baysidebrewing.com/event/free-live-music-parker/
LOCATION:Bayside Brewpub\, 970 Ross Lane\, Erieau\, Ontario\, N0P1A0\, Canada
CATEGORIES:Live Music
END:VEVENT
BEGIN:VEVENT
DTSTART;TZID=UTC:20230702T090000
DTEND;TZID=UTC:20230702T160000
DTSTAMP:20260423T163940
CREATED:20230501T062450Z
LAST-MODIFIED:20230501T195109Z
UID:57735-1688288400-1688313600@baysidebrewing.com
SUMMARY:Pinery Market
DESCRIPTION:Come visit Bayside at the Pinery Market every Sunday until October 8th and pick up a 6-pack of your favourite brew!
URL:https://baysidebrewing.com/event/pinery-market-9/
LOCATION:Pinery Market\, 10163 Lakeshore Rd\, Grand Bend\, Ontario\, N0M 1T0\, Canada
END:VEVENT
BEGIN:VEVENT
DTSTART;TZID=UTC:20230701T150000
DTEND;TZID=UTC:20230701T190000
DTSTAMP:20260423T163940
CREATED:20230501T065006Z
LAST-MODIFIED:20230609T201144Z
UID:57783-1688223600-1688238000@baysidebrewing.com
SUMMARY:Canada Day - Live Music - Gravity Wagon
DESCRIPTION:Free live music! Come join us on Canada Day and groove to Gravity Wagon!
URL:https://baysidebrewing.com/event/canada-day-live-music/
LOCATION:Bayside Brewpub\, 970 Ross Lane\, Erieau\, Ontario\, N0P1A0\, Canada
CATEGORIES:Live Music
END:VEVENT
BEGIN:VEVENT
DTSTART;TZID=UTC:20230625T120000
DTEND;TZID=UTC:20230625T160000
DTSTAMP:20260423T163940
CREATED:20230501T064843Z
LAST-MODIFIED:20230609T193459Z
UID:57781-1687694400-1687708800@baysidebrewing.com
SUMMARY:Boulevard of Dreams - Erieau Car Show
DESCRIPTION:
URL:https://baysidebrewing.com/event/erieau-car-show/
LOCATION:Ontario
END:VEVENT
BEGIN:VEVENT
DTSTART;TZID=UTC:20230625T090000
DTEND;TZID=UTC:20230625T160000
DTSTAMP:20260423T163940
CREATED:20230501T062336Z
LAST-MODIFIED:20230501T195154Z
UID:57733-1687683600-1687708800@baysidebrewing.com
SUMMARY:Pinery Market
DESCRIPTION:Come visit Bayside at the Pinery Market every Sunday until October 8th and pick up a 6-pack of your favourite brew!
URL:https://baysidebrewing.com/event/pinery-market-8/
LOCATION:Pinery Market\, 10163 Lakeshore Rd\, Grand Bend\, Ontario\, N0M 1T0\, Canada
END:VEVENT
END:VCALENDAR